BEGIN:VCALENDAR
VERSION:2.0
PRODID:-//wp-events-plugin.com//7.2.3.1//EN
TZID:Europe/Berlin
X-WR-TIMEZONE:Europe/Berlin
BEGIN:VEVENT
UID:841@reichshof.dorfwohnen-digital.de
DTSTART;TZID=Europe/Berlin:20260604T100000
DTEND;TZID=Europe/Berlin:20260907T130000
DTSTAMP:20260218T170146Z
URL:https://reichshof.dorfwohnen-digital.de/termine/kunsttherapie-fuer-pfl
 egende-angehoerige-alte-wege-neue-wege/
SUMMARY:Kunsttherapie für pflegende Angehörige  " Alte Wege - Neue Wege "
DESCRIPTION:Im Lia Kunsttherapie-Projekt "Alte Wege - neue Wege" finden pfl
 egende Angehörige Farben statt Sorgen. In einem geschützten Raum können
  Belastungen abgebbaut und neue Kraft geschöpft werden. Gefühle können 
 jenseits von Worten ausgedrückt werden. Vorkenntnisse sind nicht erforder
 lich – nur die Lust\, sich kreativ zu erproben. \n\nSeminarleitung: Kuns
 t-Therapeutin Sabine Kraus. \n\nDie Teilnahme ist kostenfrei\;\n\nAnmeldun
 g erforderlich.\n\n E-Mail: lia-zentrum@lia.de\n www.reichshof.dorfwohnen-
 digital.de\, \nTel.: 02297 9759600
CATEGORIES:Gesundheit,Kreativ
END:VEVENT
BEGIN:VTIMEZONE
TZID:Europe/Berlin
X-LIC-LOCATION:Europe/Berlin
BEGIN:DAYLIGHT
DTSTART:20260329T030000
TZOFFSETFROM:+0100
TZOFFSETTO:+0200
TZNAME:CEST
END:DAYLIGHT
END:VTIMEZONE
END:VCALENDAR