BEGIN:VCALENDAR
VERSION:2.0
PRODID:-//wp-events-plugin.com//7.2.3.1//EN
TZID:Europe/Berlin
X-WR-TIMEZONE:Europe/Berlin
BEGIN:VEVENT
UID:820@reichshof.dorfwohnen-digital.de
DTSTART;TZID=Europe/Berlin:20250626T110000
DTEND;TZID=Europe/Berlin:20250626T130000
DTSTAMP:20250508T114859Z
URL:https://reichshof.dorfwohnen-digital.de/termine/treffpunkt-pflegende-a
 ngehoerige/
SUMMARY:Treffpunkt pflegende Angehörige
DESCRIPTION:
LOCATION:Lia Zentrum\, Crottorferstrasse 16a\, Reichshof \, 51580\, Deutsch
 land
X-APPLE-STRUCTURED-LOCATION;VALUE=URI;X-ADDRESS=Crottorferstrasse 16a\, Rei
 chshof \, 51580\, Deutschland;X-APPLE-RADIUS=100;X-TITLE=Lia Zentrum:geo:0
 ,0
END:VEVENT
BEGIN:VTIMEZONE
TZID:Europe/Berlin
X-LIC-LOCATION:Europe/Berlin
BEGIN:DAYLIGHT
DTSTART:20250330T030000
TZOFFSETFROM:+0100
TZOFFSETTO:+0200
TZNAME:CEST
END:DAYLIGHT
END:VTIMEZONE
END:VCALENDAR